BEGIN:VCALENDAR
VERSION:2.0
PRODID:-//ddaysoftware.com//NONSGML DDay.iCal 1.0//EN
BEGIN:VTIMEZONE
TZID:W. Europe Standard Time
BEGIN:STANDARD
DTSTART:20251002T030000
RRULE:FREQ=YEARLY;BYDAY=-1SU;BYHOUR=3;BYMINUTE=0;BYMONTH=10
TZNAME:Mitteleuropäische Zeit
TZOFFSETFROM:+0200
TZOFFSETTO:+0100
END:STANDARD
BEGIN:DAYLIGHT
DTSTART:20250301T020000
RRULE:FREQ=YEARLY;BYDAY=-1SU;BYHOUR=2;BYMINUTE=0;BYMONTH=3
TZNAME:Mitteleuropäische Sommerzeit
TZOFFSETFROM:+0100
TZOFFSETTO:+0200
END:DAYLIGHT
END:VTIMEZONE
BEGIN:VEVENT
CATEGORIES:Brauchtum\, Museum
CATEGORIES:Sport\, Freizeit
DESCRIPTION:\n\nVeranstalter: FC Heppdiel\n\nhttps://www.eichenbuehl.de/fre
 izeit-kultur-fremdenverkehr/veranstaltungen/weihnachtsfeier-der-jsg-fc-hep
 pdielvfb-eichenbuehlsv-richelbach/
DTEND;VALUE=DATE:20261213
DTSTAMP:20260421T084935Z
DTSTART;VALUE=DATE:20261212
LOCATION:Festhalle Heppdiel: Sportplatzstraße 1\, 63928 Eichenbühl-Heppdiel
SEQUENCE:0
SUMMARY:Weihnachtsfeier der JSG - FC Heppdiel/VfB Eichenbühl/SV Richelbach
UID:150791
URL:https://www.eichenbuehl.de/freizeit-kultur-fremdenverkehr/veranstaltung
 en/weihnachtsfeier-der-jsg-fc-heppdielvfb-eichenbuehlsv-richelbach/
END:VEVENT
END:VCALENDAR
