BEGIN:VCALENDAR
VERSION:2.0
PRODID:-//ddaysoftware.com//NONSGML DDay.iCal 1.0//EN
BEGIN:VTIMEZONE
TZID:W. Europe Standard Time
BEGIN:STANDARD
DTSTART:20251002T030000
RRULE:FREQ=YEARLY;BYDAY=-1SU;BYHOUR=3;BYMINUTE=0;BYMONTH=10
TZNAME:Mitteleuropäische Zeit
TZOFFSETFROM:+0200
TZOFFSETTO:+0100
END:STANDARD
BEGIN:DAYLIGHT
DTSTART:20250301T020000
RRULE:FREQ=YEARLY;BYDAY=-1SU;BYHOUR=2;BYMINUTE=0;BYMONTH=3
TZNAME:Mitteleuropäische Sommerzeit
TZOFFSETFROM:+0100
TZOFFSETTO:+0200
END:DAYLIGHT
END:VTIMEZONE
BEGIN:VEVENT
CATEGORIES:Kirchliche Veranstaltung
DESCRIPTION:Evtl. Ersatztermin für den 05.07.2026\n\nVeranstalter: Pfarrei 
 Riedern\n\nhttps://www.eichenbuehl.de/freizeit-kultur-fremdenverkehr/veran
 staltungen/patrozinium-hl-kilian-2/
DTEND:20260712T110000
DTSTAMP:20260421T085042Z
DTSTART:20260712T100000
LOCATION:Kirche "St. Kilian"Riedern: Pfohlbacher Straße 7\, 63928 Eichenbüh
 l-Riedern
SEQUENCE:0
SUMMARY:Patrozinium Hl. Kilian in Riedern
UID:196117
URL:https://www.eichenbuehl.de/freizeit-kultur-fremdenverkehr/veranstaltung
 en/patrozinium-hl-kilian-2/
END:VEVENT
END:VCALENDAR
