BEGIN:VCALENDAR
VERSION:2.0
PRODID:-//ddaysoftware.com//NONSGML DDay.iCal 1.0//EN
BEGIN:VTIMEZONE
TZID:W. Europe Standard Time
BEGIN:STANDARD
DTSTART:20251002T030000
RRULE:FREQ=YEARLY;BYDAY=-1SU;BYHOUR=3;BYMINUTE=0;BYMONTH=10
TZNAME:Mitteleuropäische Zeit
TZOFFSETFROM:+0200
TZOFFSETTO:+0100
END:STANDARD
BEGIN:DAYLIGHT
DTSTART:20250301T020000
RRULE:FREQ=YEARLY;BYDAY=-1SU;BYHOUR=2;BYMINUTE=0;BYMONTH=3
TZNAME:Mitteleuropäische Sommerzeit
TZOFFSETFROM:+0100
TZOFFSETTO:+0200
END:DAYLIGHT
END:VTIMEZONE
BEGIN:VEVENT
CATEGORIES:Brauchtum\, Museum
DESCRIPTION:Bereits um 17:30 h findet die feierliche Einweihung und Segnung
  des Dorfbrunnens am Dorfplatz statt\n\nVeranstalter: Freiwillige Feuerweh
 r Eichenbühl\n\nhttps://www.eichenbuehl.de/freizeit-kultur-fremdenverkehr/
 veranstaltungen/maibaumaufstellung-in-eichenbuehl/
DTEND:20260430T190000
DTSTAMP:20260421T085042Z
DTSTART:20260430T180000
LOCATION:Dorfplatz Eichenbühl: Hauptstraße 125\, 63928 Eichenbühl
SEQUENCE:0
SUMMARY:Maibaumaufstellung in Eichenbühl
UID:150023
URL:https://www.eichenbuehl.de/freizeit-kultur-fremdenverkehr/veranstaltung
 en/maibaumaufstellung-in-eichenbuehl/
END:VEVENT
BEGIN:VEVENT
CATEGORIES:Brauchtum\, Museum
DESCRIPTION:\n\nVeranstalter: Freiwillige Feuerwehr Heppdiel\n\nhttps://www
 .eichenbuehl.de/freizeit-kultur-fremdenverkehr/veranstaltungen/maibaumaufs
 tellung-in-heppdiel/
DTEND:20260430T183000
DTSTAMP:20260421T085042Z
DTSTART:20260430T173000
LOCATION:Ortsmitte Heppdiel: 63928 Eichenbühl-Heppdiel
SEQUENCE:0
SUMMARY:Maibaumaufstellung in Heppdiel
UID:163606
URL:https://www.eichenbuehl.de/freizeit-kultur-fremdenverkehr/veranstaltung
 en/maibaumaufstellung-in-heppdiel/
END:VEVENT
BEGIN:VEVENT
CATEGORIES:Brauchtum\, Museum
CATEGORIES:Fest\, Kulinarisches
DESCRIPTION:\n\nVeranstalter: "Festteam"\n\nhttps://www.eichenbuehl.de/frei
 zeit-kultur-fremdenverkehr/veranstaltungen/vatertagsfest/
DTEND;VALUE=DATE:20260515
DTSTAMP:20260421T085042Z
DTSTART;VALUE=DATE:20260514
LOCATION:Garten an der Gemeindebücherei: Hauptstraße 125\, 63928 Eichenbühl
SEQUENCE:0
SUMMARY:Vatertagsfest 
UID:150033
URL:https://www.eichenbuehl.de/freizeit-kultur-fremdenverkehr/veranstaltung
 en/vatertagsfest/
END:VEVENT
BEGIN:VEVENT
CATEGORIES:Brauchtum\, Museum
CATEGORIES:Fest\, Kulinarisches
DESCRIPTION:\n\nVeranstalter: Freiwillige Feuerwehr Eichenbühl\n\nhttps://w
 ww.eichenbuehl.de/freizeit-kultur-fremdenverkehr/veranstaltungen/florianst
 ag/
DTEND:20260517T120000
DTSTAMP:20260421T085042Z
DTSTART:20260517T110000
LOCATION:Feuerwehrhaus Eichenbühl: Am Feuerwehrhaus 1\, 63928 Eichenbühl
SEQUENCE:0
SUMMARY:Florianstag der Freiwilligen Feuerwehr Eichenbühl
UID:163749
URL:https://www.eichenbuehl.de/freizeit-kultur-fremdenverkehr/veranstaltung
 en/florianstag/
END:VEVENT
BEGIN:VEVENT
CATEGORIES:Brauchtum\, Museum
CATEGORIES:Kirchliche Veranstaltung
DESCRIPTION:\n\nVeranstalter: Elternbeirat der Kindertagesstätte "Sonnensch
 ein" Eichenbühl\n\nhttps://www.eichenbuehl.de/freizeit-kultur-fremdenverke
 hr/veranstaltungen/martinsumzug-in-eichenbuehl/
DTEND:20261111T190000
DTSTAMP:20260421T085042Z
DTSTART:20261111T180000
LOCATION:Pfarrkirche St. Cäcilia Eichenbühl: Hauptstraße 90\, 63928 Eichenb
 ühl
SEQUENCE:0
SUMMARY:Martinsumzug in Eichenbühl
UID:150615
URL:https://www.eichenbuehl.de/freizeit-kultur-fremdenverkehr/veranstaltung
 en/martinsumzug-in-eichenbuehl/
END:VEVENT
BEGIN:VEVENT
CATEGORIES:Brauchtum\, Museum
CATEGORIES:Kirchliche Veranstaltung
DESCRIPTION:\n\nVeranstalter: Elternbeirat Kindergarten "Erftalzwerge" Ried
 ern\n\nhttps://www.eichenbuehl.de/freizeit-kultur-fremdenverkehr/veranstal
 tungen/martinsumzug-in-riedern/
DTEND:20261113T190000
DTSTAMP:20260421T085042Z
DTSTART:20261113T180000
LOCATION:Kirche "St. Kilian"Riedern: Pfohlbacher Straße 7\, 63928 Eichenbüh
 l-Riedern
SEQUENCE:0
SUMMARY:Martinsumzug in Riedern
UID:150616
URL:https://www.eichenbuehl.de/freizeit-kultur-fremdenverkehr/veranstaltung
 en/martinsumzug-in-riedern/
END:VEVENT
BEGIN:VEVENT
CATEGORIES:Brauchtum\, Museum
CATEGORIES:Messe\, Markt
DESCRIPTION:\n\nVeranstalter: Freiwillige Feuerwehr Pfohlbach\n\nhttps://ww
 w.eichenbuehl.de/freizeit-kultur-fremdenverkehr/veranstaltungen/weihnachts
 markt-der-freiwilligen-feuerwehr-pfohlbach/
DTEND:20261128T180000
DTSTAMP:20260421T085042Z
DTSTART:20261128T170000
LOCATION:Pfohlbach: 63928 Eichenbühl-Pfohlbach
SEQUENCE:0
SUMMARY:Weihnachtsmarkt der Freiwilligen Feuerwehr Pfohlbach
UID:185216
URL:https://www.eichenbuehl.de/freizeit-kultur-fremdenverkehr/veranstaltung
 en/weihnachtsmarkt-der-freiwilligen-feuerwehr-pfohlbach/
END:VEVENT
BEGIN:VEVENT
CATEGORIES:Brauchtum\, Museum
CATEGORIES:Messe\, Markt
DESCRIPTION:\n\nVeranstalter: Freiwillige Feuerwehr Heppdiel\n\nhttps://www
 .eichenbuehl.de/freizeit-kultur-fremdenverkehr/veranstaltungen/weihnachtsm
 arkt-der-ffw-heppdiel/
DTEND:20261205T180000
DTSTAMP:20260421T085042Z
DTSTART:20261205T170000
LOCATION:Gemeinschaftshaus Heppdiel: Gemeinschaftshaus Heppdiel\, 63928 Eic
 henbühl-Heppdiel
SEQUENCE:0
SUMMARY:Weihnachtsmarkt der FFW Heppdiel
UID:185218
URL:https://www.eichenbuehl.de/freizeit-kultur-fremdenverkehr/veranstaltung
 en/weihnachtsmarkt-der-ffw-heppdiel/
END:VEVENT
BEGIN:VEVENT
CATEGORIES:Brauchtum\, Museum
CATEGORIES:Kirchliche Veranstaltung
CATEGORIES:Musik\, Gesang\, Konzert
DESCRIPTION:\n\nVeranstalter: Musikverein "Eichenkranz"\n\nhttps://www.eich
 enbuehl.de/freizeit-kultur-fremdenverkehr/veranstaltungen/adventskonzert/
DTEND;VALUE=DATE:20261207
DTSTAMP:20260421T085042Z
DTSTART;VALUE=DATE:20261206
LOCATION:Pfarrkirche St. Cäcilia Eichenbühl: Hauptstraße 90\, 63928 Eichenb
 ühl
SEQUENCE:0
SUMMARY:Adventskonzert 
UID:161730
URL:https://www.eichenbuehl.de/freizeit-kultur-fremdenverkehr/veranstaltung
 en/adventskonzert/
END:VEVENT
BEGIN:VEVENT
CATEGORIES:Brauchtum\, Museum
CATEGORIES:Sport\, Freizeit
DESCRIPTION:\n\nVeranstalter: FC Heppdiel\n\nhttps://www.eichenbuehl.de/fre
 izeit-kultur-fremdenverkehr/veranstaltungen/weihnachtsfeier-der-jsg-fc-hep
 pdielvfb-eichenbuehlsv-richelbach/
DTEND;VALUE=DATE:20261213
DTSTAMP:20260421T085042Z
DTSTART;VALUE=DATE:20261212
LOCATION:Festhalle Heppdiel: Sportplatzstraße 1\, 63928 Eichenbühl-Heppdiel
SEQUENCE:0
SUMMARY:Weihnachtsfeier der JSG - FC Heppdiel/VfB Eichenbühl/SV Richelbach
UID:150791
URL:https://www.eichenbuehl.de/freizeit-kultur-fremdenverkehr/veranstaltung
 en/weihnachtsfeier-der-jsg-fc-heppdielvfb-eichenbuehlsv-richelbach/
END:VEVENT
BEGIN:VEVENT
CATEGORIES:Brauchtum\, Museum
CATEGORIES:Sport\, Freizeit
DESCRIPTION:\n\nVeranstalter: FC Heppdiel\n\nhttps://www.eichenbuehl.de/fre
 izeit-kultur-fremdenverkehr/veranstaltungen/weihnachtsfeier-fc-heppdiel/
DTEND;VALUE=DATE:20261220
DTSTAMP:20260421T085042Z
DTSTART;VALUE=DATE:20261219
LOCATION:Festhalle Heppdiel: Sportplatzstraße 1\, 63928 Eichenbühl-Heppdiel
SEQUENCE:0
SUMMARY:Weihnachtsfeier des FC Heppdiel
UID:150792
URL:https://www.eichenbuehl.de/freizeit-kultur-fremdenverkehr/veranstaltung
 en/weihnachtsfeier-fc-heppdiel/
END:VEVENT
BEGIN:VEVENT
CATEGORIES:Brauchtum\, Museum
DESCRIPTION:\n\nVeranstalter: Freiwillige Feuerwehr Eichenbühl\n\nhttps://w
 ww.eichenbuehl.de/freizeit-kultur-fremdenverkehr/veranstaltungen/weihnacht
 sfeier-freiwillige-feuerwehr-eichenbuehl/
DTEND;VALUE=DATE:20261220
DTSTAMP:20260421T085042Z
DTSTART;VALUE=DATE:20261219
LOCATION:Feuerwehrhaus Eichenbühl: Am Feuerwehrhaus 1\, 63928 Eichenbühl
SEQUENCE:0
SUMMARY:Weihnachtsfeier der Freiwilligen Feuerwehr Eichenbühl
UID:150793
URL:https://www.eichenbuehl.de/freizeit-kultur-fremdenverkehr/veranstaltung
 en/weihnachtsfeier-freiwillige-feuerwehr-eichenbuehl/
END:VEVENT
END:VCALENDAR
